BEGIN:VCALENDAR
VERSION:2.0
PRODID:-//Generations Church NY - ECPv6.15.20//NONSGML v1.0//EN
CALSCALE:GREGORIAN
METHOD:PUBLISH
X-ORIGINAL-URL:https://genchurchny.com
X-WR-CALDESC:Events for Generations Church NY
REFRESH-INTERVAL;VALUE=DURATION:PT1H
X-Robots-Tag:noindex
X-PUBLISHED-TTL:PT1H
BEGIN:VTIMEZONE
TZID:UTC
BEGIN:STANDARD
TZOFFSETFROM:+0000
TZOFFSETTO:+0000
TZNAME:UTC
DTSTART:20260101T000000
END:STANDARD
END:VTIMEZONE
BEGIN:VEVENT
DTSTART;TZID=UTC:20270604T183000
DTEND;TZID=UTC:20270604T203000
DTSTAMP:20260423T063242
CREATED:20260422T153308Z
LAST-MODIFIED:20260422T153541Z
UID:10001677-1812133800-1812141000@genchurchny.com
SUMMARY:GC Youth Presents: The Meetup
DESCRIPTION:Come to the Meetup\, where youth and young adults gather and grow in fellowship and in their love for Jesus!
URL:https://genchurchny.com/event/gc-youth-presents-the-meetup-1st-2/2027-06-04/
LOCATION:Generations Church – New Rochelle Campus\, 592 Main Street\, New Rochelle\, NY\, 10801\, United States
CATEGORIES:Ministry Gatherings
ATTACH;FMTTYPE=image/jpeg:https://genchurchny.com/wp-content/uploads/2026/02/The-Meetup.jpg
END:VEVENT
BEGIN:VEVENT
DTSTART;TZID=UTC:20270605T083000
DTEND;TZID=UTC:20270605T093000
DTSTAMP:20260423T063242
CREATED:20251029T224325Z
LAST-MODIFIED:20260104T023613Z
UID:10000359-1812184200-1812187800@genchurchny.com
SUMMARY:Saturday Morning Prayer
DESCRIPTION:Join us as we start our morning off right with prayer every Saturday\, @ 8:30am
URL:https://genchurchny.com/event/saturday-morning-prayer-2/2027-06-05/
LOCATION:Generations Church – New Rochelle Campus\, 592 Main Street\, New Rochelle\, NY\, 10801\, United States
CATEGORIES:Ministry Gatherings
ATTACH;FMTTYPE=image/jpeg:https://genchurchny.com/wp-content/uploads/2025/09/GC-Prayer.jpg
END:VEVENT
BEGIN:VEVENT
DTSTART;TZID=UTC:20270612T083000
DTEND;TZID=UTC:20270612T093000
DTSTAMP:20260423T063242
CREATED:20251029T224325Z
LAST-MODIFIED:20260104T023613Z
UID:10000360-1812789000-1812792600@genchurchny.com
SUMMARY:Saturday Morning Prayer
DESCRIPTION:Join us as we start our morning off right with prayer every Saturday\, @ 8:30am
URL:https://genchurchny.com/event/saturday-morning-prayer-2/2027-06-12/
LOCATION:Generations Church – New Rochelle Campus\, 592 Main Street\, New Rochelle\, NY\, 10801\, United States
CATEGORIES:Ministry Gatherings
ATTACH;FMTTYPE=image/jpeg:https://genchurchny.com/wp-content/uploads/2025/09/GC-Prayer.jpg
END:VEVENT
BEGIN:VEVENT
DTSTART;TZID=UTC:20270612T100000
DTEND;TZID=UTC:20270612T120000
DTSTAMP:20260423T063242
CREATED:20250916T024454Z
LAST-MODIFIED:20260408T172508Z
UID:10000929-1812794400-1812801600@genchurchny.com
SUMMARY:W.I.N. - Women of Integrity Network
DESCRIPTION:Join us every 2nd Saturday of the month for W.I.N.! Women of Integrity Network. A place where women can just be…..women! Fellowship and get to experience what God has in store for you.
URL:https://genchurchny.com/event/win/2027-06-12/
LOCATION:Generations Church – New Rochelle Campus\, 592 Main Street\, New Rochelle\, NY\, 10801\, United States
CATEGORIES:Ministry Gatherings
ATTACH;FMTTYPE=image/jpeg:https://genchurchny.com/wp-content/uploads/2025/09/WIN-meetings.jpg
END:VEVENT
BEGIN:VEVENT
DTSTART;TZID=UTC:20270618T183000
DTEND;TZID=UTC:20270618T203000
DTSTAMP:20260423T063242
CREATED:20250916T032202Z
LAST-MODIFIED:20260223T182658Z
UID:10001049-1813343400-1813350600@genchurchny.com
SUMMARY:GC Youth Presents: The Meetup
DESCRIPTION:Come to the Meetup\, where youth and young adults gather and grow in fellowship and in their love for Jesus!
URL:https://genchurchny.com/event/gcyouth-presents-the-meetup-3rd/2027-06-18/
LOCATION:Generations Church – New Rochelle Campus\, 592 Main Street\, New Rochelle\, NY\, 10801\, United States
CATEGORIES:Ministry Gatherings
ATTACH;FMTTYPE=image/jpeg:https://genchurchny.com/wp-content/uploads/2026/02/The-Meetup.jpg
END:VEVENT
BEGIN:VEVENT
DTSTART;TZID=UTC:20270619T083000
DTEND;TZID=UTC:20270619T093000
DTSTAMP:20260423T063242
CREATED:20251029T224325Z
LAST-MODIFIED:20260104T023613Z
UID:10000361-1813393800-1813397400@genchurchny.com
SUMMARY:Saturday Morning Prayer
DESCRIPTION:Join us as we start our morning off right with prayer every Saturday\, @ 8:30am
URL:https://genchurchny.com/event/saturday-morning-prayer-2/2027-06-19/
LOCATION:Generations Church – New Rochelle Campus\, 592 Main Street\, New Rochelle\, NY\, 10801\, United States
CATEGORIES:Ministry Gatherings
ATTACH;FMTTYPE=image/jpeg:https://genchurchny.com/wp-content/uploads/2025/09/GC-Prayer.jpg
END:VEVENT
BEGIN:VEVENT
DTSTART;TZID=UTC:20270621T183000
DTEND;TZID=UTC:20270621T203000
DTSTAMP:20260423T063242
CREATED:20250916T023326Z
LAST-MODIFIED:20251203T170258Z
UID:10000813-1813602600-1813609800@genchurchny.com
SUMMARY:Man Church - The GMen Network
DESCRIPTION:This is a call for men everywhere! Join us for an hour of community and powerful prayer as we commit ourselves to taking our place as spiritual men.
URL:https://genchurchny.com/event/man-church/2027-06-21/
LOCATION:Generations Church – New Rochelle Campus\, 592 Main Street\, New Rochelle\, NY\, 10801\, United States
CATEGORIES:Ministry Gatherings
ATTACH;FMTTYPE=image/jpeg:https://genchurchny.com/wp-content/uploads/2025/09/DSC05412-scaled-e1757975587723.jpeg
END:VEVENT
BEGIN:VEVENT
DTSTART;TZID=UTC:20270626T083000
DTEND;TZID=UTC:20270626T093000
DTSTAMP:20260423T063242
CREATED:20251029T224325Z
LAST-MODIFIED:20260104T023613Z
UID:10000362-1813998600-1814002200@genchurchny.com
SUMMARY:Saturday Morning Prayer
DESCRIPTION:Join us as we start our morning off right with prayer every Saturday\, @ 8:30am
URL:https://genchurchny.com/event/saturday-morning-prayer-2/2027-06-26/
LOCATION:Generations Church – New Rochelle Campus\, 592 Main Street\, New Rochelle\, NY\, 10801\, United States
CATEGORIES:Ministry Gatherings
ATTACH;FMTTYPE=image/jpeg:https://genchurchny.com/wp-content/uploads/2025/09/GC-Prayer.jpg
END:VEVENT
END:VCALENDAR