BEGIN:VCALENDAR
VERSION:2.0
PRODID:-//Generations Church NY - ECPv6.15.20//NONSGML v1.0//EN
CALSCALE:GREGORIAN
METHOD:PUBLISH
X-ORIGINAL-URL:https://genchurchny.com
X-WR-CALDESC:Events for Generations Church NY
REFRESH-INTERVAL;VALUE=DURATION:PT1H
X-Robots-Tag:noindex
X-PUBLISHED-TTL:PT1H
BEGIN:VTIMEZONE
TZID:UTC
BEGIN:STANDARD
TZOFFSETFROM:+0000
TZOFFSETTO:+0000
TZNAME:UTC
DTSTART:20260101T000000
END:STANDARD
END:VTIMEZONE
BEGIN:VEVENT
DTSTART;TZID=UTC:20270101T183000
DTEND;TZID=UTC:20270101T203000
DTSTAMP:20260419T151128
CREATED:20260204T185036Z
LAST-MODIFIED:20260408T172206Z
UID:10001672-1798828200-1798835400@genchurchny.com
SUMMARY:GC Youth Presents: The Meetup
DESCRIPTION:Come to the Meetup\, where youth and young adults gather and grow in fellowship and in their love for Jesus!
URL:https://genchurchny.com/event/gc-youth-presents-the-meetup-1st/2027-01-01/
LOCATION:Generations Church – New Rochelle Campus\, 592 Main Street\, New Rochelle\, NY\, 10801\, United States
CATEGORIES:Ministry Gatherings
ATTACH;FMTTYPE=image/jpeg:https://genchurchny.com/wp-content/uploads/2026/02/The-Meetup.jpg
END:VEVENT
BEGIN:VEVENT
DTSTART;TZID=UTC:20270102T083000
DTEND;TZID=UTC:20270102T093000
DTSTAMP:20260419T151128
CREATED:20251029T224325Z
LAST-MODIFIED:20260104T023613Z
UID:10000337-1798878600-1798882200@genchurchny.com
SUMMARY:Saturday Morning Prayer
DESCRIPTION:Join us as we start our morning off right with prayer every Saturday\, @ 8:30am
URL:https://genchurchny.com/event/saturday-morning-prayer-2/2027-01-02/
LOCATION:Generations Church – New Rochelle Campus\, 592 Main Street\, New Rochelle\, NY\, 10801\, United States
CATEGORIES:Ministry Gatherings
ATTACH;FMTTYPE=image/jpeg:https://genchurchny.com/wp-content/uploads/2025/09/GC-Prayer.jpg
END:VEVENT
BEGIN:VEVENT
DTSTART;TZID=UTC:20270109T083000
DTEND;TZID=UTC:20270109T093000
DTSTAMP:20260419T151128
CREATED:20251029T224325Z
LAST-MODIFIED:20260104T023613Z
UID:10000338-1799483400-1799487000@genchurchny.com
SUMMARY:Saturday Morning Prayer
DESCRIPTION:Join us as we start our morning off right with prayer every Saturday\, @ 8:30am
URL:https://genchurchny.com/event/saturday-morning-prayer-2/2027-01-09/
LOCATION:Generations Church – New Rochelle Campus\, 592 Main Street\, New Rochelle\, NY\, 10801\, United States
CATEGORIES:Ministry Gatherings
ATTACH;FMTTYPE=image/jpeg:https://genchurchny.com/wp-content/uploads/2025/09/GC-Prayer.jpg
END:VEVENT
BEGIN:VEVENT
DTSTART;TZID=UTC:20270109T100000
DTEND;TZID=UTC:20270109T120000
DTSTAMP:20260419T151128
CREATED:20250916T024454Z
LAST-MODIFIED:20260408T172508Z
UID:10000924-1799488800-1799496000@genchurchny.com
SUMMARY:W.I.N. - Women of Integrity Network
DESCRIPTION:Join us every 2nd Saturday of the month for W.I.N.! Women of Integrity Network. A place where women can just be…..women! Fellowship and get to experience what God has in store for you.
URL:https://genchurchny.com/event/win/2027-01-09/
LOCATION:Generations Church – New Rochelle Campus\, 592 Main Street\, New Rochelle\, NY\, 10801\, United States
CATEGORIES:Ministry Gatherings
ATTACH;FMTTYPE=image/jpeg:https://genchurchny.com/wp-content/uploads/2025/09/WIN-meetings.jpg
END:VEVENT
BEGIN:VEVENT
DTSTART;TZID=UTC:20270115T183000
DTEND;TZID=UTC:20270115T203000
DTSTAMP:20260419T151128
CREATED:20250916T032202Z
LAST-MODIFIED:20260223T182658Z
UID:10001044-1800037800-1800045000@genchurchny.com
SUMMARY:GC Youth Presents: The Meetup
DESCRIPTION:Come to the Meetup\, where youth and young adults gather and grow in fellowship and in their love for Jesus!
URL:https://genchurchny.com/event/gcyouth-presents-the-meetup-3rd/2027-01-15/
LOCATION:Generations Church – New Rochelle Campus\, 592 Main Street\, New Rochelle\, NY\, 10801\, United States
CATEGORIES:Ministry Gatherings
ATTACH;FMTTYPE=image/jpeg:https://genchurchny.com/wp-content/uploads/2026/02/The-Meetup.jpg
END:VEVENT
BEGIN:VEVENT
DTSTART;TZID=UTC:20270116T083000
DTEND;TZID=UTC:20270116T093000
DTSTAMP:20260419T151128
CREATED:20251029T224325Z
LAST-MODIFIED:20260104T023613Z
UID:10000339-1800088200-1800091800@genchurchny.com
SUMMARY:Saturday Morning Prayer
DESCRIPTION:Join us as we start our morning off right with prayer every Saturday\, @ 8:30am
URL:https://genchurchny.com/event/saturday-morning-prayer-2/2027-01-16/
LOCATION:Generations Church – New Rochelle Campus\, 592 Main Street\, New Rochelle\, NY\, 10801\, United States
CATEGORIES:Ministry Gatherings
ATTACH;FMTTYPE=image/jpeg:https://genchurchny.com/wp-content/uploads/2025/09/GC-Prayer.jpg
END:VEVENT
BEGIN:VEVENT
DTSTART;TZID=UTC:20270118T183000
DTEND;TZID=UTC:20270118T203000
DTSTAMP:20260419T151128
CREATED:20250916T023326Z
LAST-MODIFIED:20251203T170258Z
UID:10000808-1800297000-1800304200@genchurchny.com
SUMMARY:Man Church - The GMen Network
DESCRIPTION:This is a call for men everywhere! Join us for an hour of community and powerful prayer as we commit ourselves to taking our place as spiritual men.
URL:https://genchurchny.com/event/man-church/2027-01-18/
LOCATION:Generations Church – New Rochelle Campus\, 592 Main Street\, New Rochelle\, NY\, 10801\, United States
CATEGORIES:Ministry Gatherings
ATTACH;FMTTYPE=image/jpeg:https://genchurchny.com/wp-content/uploads/2025/09/DSC05412-scaled-e1757975587723.jpeg
END:VEVENT
BEGIN:VEVENT
DTSTART;TZID=UTC:20270123T083000
DTEND;TZID=UTC:20270123T093000
DTSTAMP:20260419T151128
CREATED:20251029T224325Z
LAST-MODIFIED:20260104T023613Z
UID:10000340-1800693000-1800696600@genchurchny.com
SUMMARY:Saturday Morning Prayer
DESCRIPTION:Join us as we start our morning off right with prayer every Saturday\, @ 8:30am
URL:https://genchurchny.com/event/saturday-morning-prayer-2/2027-01-23/
LOCATION:Generations Church – New Rochelle Campus\, 592 Main Street\, New Rochelle\, NY\, 10801\, United States
CATEGORIES:Ministry Gatherings
ATTACH;FMTTYPE=image/jpeg:https://genchurchny.com/wp-content/uploads/2025/09/GC-Prayer.jpg
END:VEVENT
BEGIN:VEVENT
DTSTART;TZID=UTC:20270130T083000
DTEND;TZID=UTC:20270130T093000
DTSTAMP:20260419T151128
CREATED:20251029T224325Z
LAST-MODIFIED:20260104T023613Z
UID:10000341-1801297800-1801301400@genchurchny.com
SUMMARY:Saturday Morning Prayer
DESCRIPTION:Join us as we start our morning off right with prayer every Saturday\, @ 8:30am
URL:https://genchurchny.com/event/saturday-morning-prayer-2/2027-01-30/
LOCATION:Generations Church – New Rochelle Campus\, 592 Main Street\, New Rochelle\, NY\, 10801\, United States
CATEGORIES:Ministry Gatherings
ATTACH;FMTTYPE=image/jpeg:https://genchurchny.com/wp-content/uploads/2025/09/GC-Prayer.jpg
END:VEVENT
END:VCALENDAR