BEGIN:VCALENDAR
VERSION:2.0
PRODID:-//Generations Church NY - ECPv6.15.20//NONSGML v1.0//EN
CALSCALE:GREGORIAN
METHOD:PUBLISH
X-WR-CALNAME:Generations Church NY
X-ORIGINAL-URL:https://genchurchny.com
X-WR-CALDESC:Events for Generations Church NY
REFRESH-INTERVAL;VALUE=DURATION:PT1H
X-Robots-Tag:noindex
X-PUBLISHED-TTL:PT1H
BEGIN:VTIMEZONE
TZID:UTC
BEGIN:STANDARD
TZOFFSETFROM:+0000
TZOFFSETTO:+0000
TZNAME:UTC
DTSTART:20280101T000000
END:STANDARD
END:VTIMEZONE
BEGIN:VTIMEZONE
TZID:America/New_York
BEGIN:DAYLIGHT
TZOFFSETFROM:-0500
TZOFFSETTO:-0400
TZNAME:EDT
DTSTART:20280312T070000
END:DAYLIGHT
BEGIN:STANDARD
TZOFFSETFROM:-0400
TZOFFSETTO:-0500
TZNAME:EST
DTSTART:20281105T060000
END:STANDARD
BEGIN:DAYLIGHT
TZOFFSETFROM:-0500
TZOFFSETTO:-0400
TZNAME:EDT
DTSTART:20290311T070000
END:DAYLIGHT
BEGIN:STANDARD
TZOFFSETFROM:-0400
TZOFFSETTO:-0500
TZNAME:EST
DTSTART:20291104T060000
END:STANDARD
BEGIN:DAYLIGHT
TZOFFSETFROM:-0500
TZOFFSETTO:-0400
TZNAME:EDT
DTSTART:20300310T070000
END:DAYLIGHT
BEGIN:STANDARD
TZOFFSETFROM:-0400
TZOFFSETTO:-0500
TZNAME:EST
DTSTART:20301103T060000
END:STANDARD
END:VTIMEZONE
BEGIN:VEVENT
DTSTART;VALUE=DATE:20290107
DTEND;VALUE=DATE:20290108
DTSTAMP:20260425T125544
CREATED:20250916T022949Z
LAST-MODIFIED:20250916T031247Z
UID:10001007-1862438400-1862524799@genchurchny.com
SUMMARY:Baptism Sunday
DESCRIPTION:Celebrate with those who are taking the next step in their walk and demonstrating their first act of obedience as followers of Christ through baptism! We host our water baptism service right after our main worship service
URL:https://genchurchny.com/event/baptism-sunday/2029-01-07/
LOCATION:Generations Church – New Rochelle Campus\, 592 Main Street\, New Rochelle\, NY\, 10801\, United States
CATEGORIES:Regular Services
ATTACH;FMTTYPE=image/jpeg:https://genchurchny.com/wp-content/uploads/2025/09/Baptism-1-scaled-e1757975333202.jpeg
END:VEVENT
BEGIN:VEVENT
DTSTART;TZID=America/New_York:20290107T090000
DTEND;TZID=America/New_York:20290107T223000
DTSTAMP:20260425T125544
CREATED:20250916T012745Z
LAST-MODIFIED:20250916T021204Z
UID:10000701-1862470800-1862519400@genchurchny.com
SUMMARY:Sunday Morning Worship - 9AM (In Person ONLY)
DESCRIPTION:Join us for our weekly worship experience where we join with believers and those seeking to know and celebrate Christ through worship and the Word. \nMain Campus – 592 Main Street\, New Rochelle\, NY 10801
URL:https://genchurchny.com/event/9am-service/2029-01-07/
LOCATION:Generations Church – New Rochelle Campus\, 592 Main Street\, New Rochelle\, NY\, 10801\, United States
CATEGORIES:Regular Services
ATTACH;FMTTYPE=image/jpeg:https://genchurchny.com/wp-content/uploads/2025/09/Live-scaled.jpg
END:VEVENT
BEGIN:VEVENT
DTSTART;TZID=America/New_York:20290107T110000
DTEND;TZID=America/New_York:20290107T123000
DTSTAMP:20260425T125544
CREATED:20250916T005804Z
LAST-MODIFIED:20250916T021251Z
UID:10000181-1862478000-1862483400@genchurchny.com
SUMMARY:Sunday Morning Worship - 11AM (In Person & Online)
DESCRIPTION:Join us for our weekly worship experience where we join with believers and those seeking to know and celebrate Christ through worship and the Word. \nMain Campus – 592 Main Street\, New Rochelle\, NY 10801 \nMount Vernon Campus – 38 E 1st St\, Mt Vernon\, NY 10550 \nOnline Campus – live.genchurchny.com
URL:https://genchurchny.com/event/11am-service/2029-01-07/
LOCATION:Generations Church – New Rochelle Campus\, 592 Main Street\, New Rochelle\, NY\, 10801\, United States
CATEGORIES:Regular Services
ATTACH;FMTTYPE=image/jpeg:https://genchurchny.com/wp-content/uploads/2025/09/Live-scaled.jpg
END:VEVENT
END:VCALENDAR