BEGIN:VCALENDAR
VERSION:2.0
PRODID:-//Generations Church NY - ECPv6.15.20//NONSGML v1.0//EN
CALSCALE:GREGORIAN
METHOD:PUBLISH
X-WR-CALNAME:Generations Church NY
X-ORIGINAL-URL:https://genchurchny.com
X-WR-CALDESC:Events for Generations Church NY
REFRESH-INTERVAL;VALUE=DURATION:PT1H
X-Robots-Tag:noindex
X-PUBLISHED-TTL:PT1H
BEGIN:VTIMEZONE
TZID:UTC
BEGIN:STANDARD
TZOFFSETFROM:+0000
TZOFFSETTO:+0000
TZNAME:UTC
DTSTART:20270101T000000
END:STANDARD
END:VTIMEZONE
BEGIN:VEVENT
DTSTART;TZID=UTC:20280918T183000
DTEND;TZID=UTC:20280918T203000
DTSTAMP:20260421T010403
CREATED:20250916T023326Z
LAST-MODIFIED:20251203T170258Z
UID:10000828-1852914600-1852921800@genchurchny.com
SUMMARY:Man Church - The GMen Network
DESCRIPTION:This is a call for men everywhere! Join us for an hour of community and powerful prayer as we commit ourselves to taking our place as spiritual men.
URL:https://genchurchny.com/event/man-church/2028-09-18/
LOCATION:Generations Church – New Rochelle Campus\, 592 Main Street\, New Rochelle\, NY\, 10801\, United States
CATEGORIES:Ministry Gatherings
ATTACH;FMTTYPE=image/jpeg:https://genchurchny.com/wp-content/uploads/2025/09/DSC05412-scaled-e1757975587723.jpeg
END:VEVENT
END:VCALENDAR