BEGIN:VCALENDAR
VERSION:2.0
PRODID:-//Generations Church NY - ECPv6.15.20//NONSGML v1.0//EN
CALSCALE:GREGORIAN
METHOD:PUBLISH
X-WR-CALNAME:Generations Church NY
X-ORIGINAL-URL:https://genchurchny.com
X-WR-CALDESC:Events for Generations Church NY
REFRESH-INTERVAL;VALUE=DURATION:PT1H
X-Robots-Tag:noindex
X-PUBLISHED-TTL:PT1H
BEGIN:VTIMEZONE
TZID:UTC
BEGIN:STANDARD
TZOFFSETFROM:+0000
TZOFFSETTO:+0000
TZNAME:UTC
DTSTART:20240101T000000
END:STANDARD
END:VTIMEZONE
BEGIN:VEVENT
DTSTART;TZID=UTC:20251108T083000
DTEND;TZID=UTC:20251108T093000
DTSTAMP:20260423T124220
CREATED:20251029T225920Z
LAST-MODIFIED:20251029T230558Z
UID:10001227-1762590600-1762594200@genchurchny.com
SUMMARY:Fall 2025 RESET
DESCRIPTION:We’re setting aside a full week to make room for God — together. This isn’t just about skipping meals; it’s about clearing space in our lives so He can fill it with something greater. \nCome join the family as we pray\, fast\, and believe for breakthrough — in our church\, our city\, and our own hearts. Whether you’ve fasted before or it’s your first time\, jump in! Every prayer\, every moment matters. \nLet’s press in\, lift each other up\, and watch what God does when we make room for Him.
URL:https://genchurchny.com/event/fall-2025-reset/2025-11-08/
LOCATION:Generations Church – New Rochelle Campus\, 592 Main Street\, New Rochelle\, NY\, 10801\, United States
CATEGORIES:Ministry Gatherings
ATTACH;FMTTYPE=image/jpeg:https://genchurchny.com/wp-content/uploads/2025/10/RESET.jpg
END:VEVENT
BEGIN:VEVENT
DTSTART;TZID=UTC:20251108T100000
DTEND;TZID=UTC:20251108T120000
DTSTAMP:20260423T124220
CREATED:20250916T024454Z
LAST-MODIFIED:20260408T172508Z
UID:10000910-1762596000-1762603200@genchurchny.com
SUMMARY:W.I.N. - Women of Integrity Network
DESCRIPTION:Join us every 2nd Saturday of the month for W.I.N.! Women of Integrity Network. A place where women can just be…..women! Fellowship and get to experience what God has in store for you.
URL:https://genchurchny.com/event/win/2025-11-08/
LOCATION:Generations Church – New Rochelle Campus\, 592 Main Street\, New Rochelle\, NY\, 10801\, United States
CATEGORIES:Ministry Gatherings
ATTACH;FMTTYPE=image/jpeg:https://genchurchny.com/wp-content/uploads/2025/09/WIN-meetings.jpg
END:VEVENT
END:VCALENDAR