BEGIN:VCALENDAR
VERSION:2.0
PRODID:-//Generations Church NY - ECPv6.15.20//NONSGML v1.0//EN
CALSCALE:GREGORIAN
METHOD:PUBLISH
X-ORIGINAL-URL:https://genchurchny.com
X-WR-CALDESC:Events for Generations Church NY
REFRESH-INTERVAL;VALUE=DURATION:PT1H
X-Robots-Tag:noindex
X-PUBLISHED-TTL:PT1H
BEGIN:VTIMEZONE
TZID:UTC
BEGIN:STANDARD
TZOFFSETFROM:+0000
TZOFFSETTO:+0000
TZNAME:UTC
DTSTART:20240101T000000
END:STANDARD
END:VTIMEZONE
BEGIN:VEVENT
DTSTART;TZID=UTC:20251018T083000
DTEND;TZID=UTC:20251018T093000
DTSTAMP:20260425T161123
CREATED:20250916T011124Z
LAST-MODIFIED:20250916T032910Z
UID:10000274-1760776200-1760779800@genchurchny.com
SUMMARY:Saturday Morning Prayer
DESCRIPTION:Join us as we start our morning off right with prayer every Saturday\, @ 8:30am
URL:https://genchurchny.com/event/saturday-morning-prayer/2025-10-18/
LOCATION:Generations Church – New Rochelle Campus\, 592 Main Street\, New Rochelle\, NY\, 10801\, United States
CATEGORIES:Ministry Gatherings
ATTACH;FMTTYPE=image/jpeg:https://genchurchny.com/wp-content/uploads/2025/09/GC-Prayer.jpg
END:VEVENT
BEGIN:VEVENT
DTSTART;TZID=UTC:20251018T190000
DTEND;TZID=UTC:20251018T210000
DTSTAMP:20260425T161123
CREATED:20250916T025314Z
LAST-MODIFIED:20251203T172745Z
UID:10000793-1760814000-1760821200@genchurchny.com
SUMMARY:Marriage Ministry Gathering
DESCRIPTION:Looking to grow closer to God and your spouse? Join our Marriage Ministry Group\, where couples come together for fellowship\, encouragement\, and real-life connection. We meet every third Saturday of the month at 7pm at the MV Campus. Each month\, we share\, learn\, laugh\, and grow in community with other married couples. Whether you’re newlyweds or long-time partners\, all married couples and seriously engaged couples are welcome!
URL:https://genchurchny.com/event/marriage-ministry-gathering/2025-10-18/
LOCATION:Generations Church – Mt Vernon Campus\, 38 E 1st Street\, Mt Vernon\, NY\, 10550\, United States
CATEGORIES:Ministry Gatherings
ATTACH;FMTTYPE=image/jpeg:https://genchurchny.com/wp-content/uploads/2025/09/Marriage-ministry.jpg
END:VEVENT
END:VCALENDAR